BEGIN:VCALENDAR
PRODID:-//Feedo Feed//NONSGML v1.0//EN
VERSION:2.0
CALSCALE:GREGORIAN
METHOD:PUBLISH
X-WR-CALNAME:Making a difference in the life of a person with Cancer
X-WR-CALDESC:BioMedica will be hosting an Oncology Summit in 2020 “Making a difference in the life of a person with cancer.”\nThe event will be held on Saturday, 2nd May at the International Convention Centre Sydney in Darling Harbour.\nTickets are now on sale. \nFor further details see the attached flyer or see biomedicasummit.com.au
X-MS-OLK-FORCEINSPECTOROPEN:TRUE
BEGIN:VEVENT
DTSTAMP:20200226T122030Z
DTSTART:20200502T090000Z
DTEND:20200502T090000Z
TRANSP:TRANSPARENT
UID:5612020-05-02
SUMMARY:Making a difference in the life of a person with Cancer
DESCRIPTION:BioMedica will be hosting an Oncology Summit in 2020 “Making a difference in the life of a person with cancer.”\nThe event will be held on Saturday, 2nd May at the International Convention Centre Sydney in Darling Harbour.\nTickets are now on sale. \nFor further details see the attached flyer or see biomedicasummit.com.au
URL:http://www.nhaa.org.au/events/2013-02-13-01-46-12/making-a-difference-in-the-life-of-a-person-with-cancer?format=html
CATEGORIES:Other Professional Events
GEO:
LOCATION:International Convention Centre
END:VEVENT
END:VCALENDAR