BEGIN:VCALENDAR
PRODID:-//Feedo Feed//NONSGML v1.0//EN
VERSION:2.0
CALSCALE:GREGORIAN
METHOD:PUBLISH
X-WR-CALNAME:Metagenics 2020 International Congress on Natural Medicine 
X-WR-CALDESC:\nMetagenics invites you to join us for The 2020 International Congress on Natural Medicine – an event designed to help prepare Practitioners for the road ahead when a patient presents with a cancer diagnosis. While a miracle cure for cancer is still a distant dream, there is much that you can do now as a Practitioner, to support a patient through their cancer experience.\nThis year’s Congress will equip Practitioners with concepts and tools to provide:\n-          Holistic support for cancer patients – including biochemistry, physiology, psychology as well as spirituality.\n-          Complementary Medicines safe in the co-management of conventional cancer treatment with reduced side effects.\n-          Skills on how to provide palliative care – so that the patient as well as their family can maintain the best quality of life.\n-          Context around conflicting views – looking at both sides of the picture and how to make the best decisions possible around a patient’s prescription.\n-          New science in epigenetics and mitochondria that could lead to new opportunities in diagnosis and treatment pathways.\n-          Methods of cancer prevention – simple changes that can reduce a patient’s risk of cancer.\nFor further information click here.
X-MS-OLK-FORCEINSPECTOROPEN:TRUE
BEGIN:VEVENT
DTSTAMP:20200226T122122Z
DTSTART:20200606T090000Z
DTEND:20200608T180000Z
TRANSP:TRANSPARENT
UID:5622020-06-06
SUMMARY:Metagenics 2020 International Congress on Natural Medicine 
DESCRIPTION:\nMetagenics invites you to join us for The 2020 International Congress on Natural Medicine – an event designed to help prepare Practitioners for the road ahead when a patient presents with a cancer diagnosis. While a miracle cure for cancer is still a distant dream, there is much that you can do now as a Practitioner, to support a patient through their cancer experience.\nThis year’s Congress will equip Practitioners with concepts and tools to provide:\n-          Holistic support for cancer patients – including biochemistry, physiology, psychology as well as spirituality.\n-          Complementary Medicines safe in the co-management of conventional cancer treatment with reduced side effects.\n-          Skills on how to provide palliative care – so that the patient as well as their family can maintain the best quality of life.\n-          Context around conflicting views – looking at both sides of the picture and how to make the best decisions possible around a patient’s prescription.\n-          New science in epigenetics and mitochondria that could lead to new opportunities in diagnosis and treatment pathways.\n-          Methods of cancer prevention – simple changes that can reduce a patient’s risk of cancer.\nFor further information click here.
URL:http://www.nhaa.org.au/events/2013-02-13-01-46-12/metagenics-2020-international-congress-on-natural-medicine?format=html
CATEGORIES:Other Professional Events
GEO:
LOCATION:Sofitel Brisbane Central
END:VEVENT
END:VCALENDAR