BEGIN:VCALENDAR
PRODID:-//Feedo Feed//NONSGML v1.0//EN
VERSION:2.0
CALSCALE:GREGORIAN
METHOD:PUBLISH
X-WR-CALNAME:NICM - Influential Women in Natural Therapies Symposium
X-WR-CALDESC:NICM Health Research Institute’s inaugural one-day Symposium ‘Influential Women in Natural Therapies’ will be held on Wednesday 11 March.\nThe Symposium will serve as both a recognition of the contributions women have made to the field, as well as providing a forum for further planning and motivation of the next generation of integrative and lifestyle medicine researchers and healthcare professionals.  Key speakers will discuss the future of healthcare choices and what’s ahead for complementary and integrative medicine and its new generation of women leaders.\nRegister now to take advantage of the early-bird rate available until 31 January and save $115!\nFor more information, including the program and key speakers, please see attached flyer or visit https://nicm.edu.au/news/events 
X-MS-OLK-FORCEINSPECTOROPEN:TRUE
BEGIN:VEVENT
DTSTAMP:20200226T122023Z
DTSTART:20200311T083000Z
DTEND:20200311T183000Z
TRANSP:TRANSPARENT
UID:5652020-03-11
SUMMARY:NICM - Influential Women in Natural Therapies Symposium
DESCRIPTION:NICM Health Research Institute’s inaugural one-day Symposium ‘Influential Women in Natural Therapies’ will be held on Wednesday 11 March.\nThe Symposium will serve as both a recognition of the contributions women have made to the field, as well as providing a forum for further planning and motivation of the next generation of integrative and lifestyle medicine researchers and healthcare professionals.  Key speakers will discuss the future of healthcare choices and what’s ahead for complementary and integrative medicine and its new generation of women leaders.\nRegister now to take advantage of the early-bird rate available until 31 January and save $115!\nFor more information, including the program and key speakers, please see attached flyer or visit https://nicm.edu.au/news/events 
URL:http://www.nhaa.org.au/events/2013-02-13-01-46-12/nicm-influential-women-in-natural-therapies-symposium?format=html
CATEGORIES:Other Professional Events
GEO:
LOCATION:NICM Health Research Institute, Western Sydney University
END:VEVENT
END:VCALENDAR