BEGIN:VCALENDAR
PRODID:-//Feedo Feed//NONSGML v1.0//EN
VERSION:2.0
CALSCALE:GREGORIAN
METHOD:PUBLISH
X-WR-CALNAME:Multi Systems Medicines Masterclass
X-WR-CALDESC:Multi Systems Medicines Masterclass: Extending the health span through optimising cellular resilience\nPresented by: Vanessa Hitch & Paul Kern\nWhat you will learn:\n\nAutophagy and mitochondrial biogenesis and their roles in building cellular resilience \n\nInflammageing and its role in chronic disease\n\nThe importance of activating vitagenes in maintaining a healthy redox balance\n\nPsycho-social stress as a driver of chronic disease\n\nHow metabolic acidosis drives accelerated ageing and chronic disease progression\n\nHow pathogenic overload can deplete wellbeing\n\nSupport of detoxification as a cornerstone of clinical practice for promoting a better healthspan\n\nRole of methylation in preserving genomic stability\n\nPutting it all together into a plan for your patients to build their cellular resilience\n\n\n \n$10 discount for NHAA members! Enter discount code when registering: NHAA10 \nFor further details see the attached flyer.\nNZ – 2nd March | QLD – 4th March | NSW 6th March | VIC 10th March | SA 11th March | WA 13th March \n10.00am – 4.30pm\nBooking link: https://www.bwellness.com.au/upcoming-seminars/msm-masterclass-march2020/
X-MS-OLK-FORCEINSPECTOROPEN:TRUE
BEGIN:VEVENT
DTSTAMP:20200226T122253Z
DTSTART:20200304T100000Z
DTEND:20200313T163000Z
TRANSP:TRANSPARENT
UID:5562020-03-04
SUMMARY:Multi Systems Medicines Masterclass
DESCRIPTION:Multi Systems Medicines Masterclass: Extending the health span through optimising cellular resilience\nPresented by: Vanessa Hitch & Paul Kern\nWhat you will learn:\n\nAutophagy and mitochondrial biogenesis and their roles in building cellular resilience \n\nInflammageing and its role in chronic disease\n\nThe importance of activating vitagenes in maintaining a healthy redox balance\n\nPsycho-social stress as a driver of chronic disease\n\nHow metabolic acidosis drives accelerated ageing and chronic disease progression\n\nHow pathogenic overload can deplete wellbeing\n\nSupport of detoxification as a cornerstone of clinical practice for promoting a better healthspan\n\nRole of methylation in preserving genomic stability\n\nPutting it all together into a plan for your patients to build their cellular resilience\n\n\n \n$10 discount for NHAA members! Enter discount code when registering: NHAA10 \nFor further details see the attached flyer.\nNZ – 2nd March | QLD – 4th March | NSW 6th March | VIC 10th March | SA 11th March | WA 13th March \n10.00am – 4.30pm\nBooking link: https://www.bwellness.com.au/upcoming-seminars/msm-masterclass-march2020/
URL:http://www.nhaa.org.au/events/2013-02-13-01-46-12/multi-systems-medicines-masterclass?format=html
CATEGORIES:Other Professional Events
GEO:
LOCATION:
END:VEVENT
END:VCALENDAR