BEGIN:VCALENDAR
PRODID:-//Feedo Feed//NONSGML v1.0//EN
VERSION:2.0
CALSCALE:GREGORIAN
METHOD:PUBLISH
X-WR-CALNAME:Practical Phytomedicine Pathway
X-WR-CALDESC:The primary objective of practical phytomedicine pathway is to educate Phytotherapy and Naturopathy practitioner expertise. You'll become a skillful co-­‐worker assisting natural healing forces in clinical practice.\n \nOverview of the 4-­‐day training program:\n \nDay 1 -­‐ Linking medicinal plant qualities with seasons, plant families plus clinical practice (Emma).\nDay 2 -­‐ Diagnosis using visual, palpable, hearing, smelling plus interview methods (Peter).\nDay 3 -­‐ Several acute disorder treatment methods with emphasis on safe outcomes (Peter).\nDay 4 -­‐ Experience the plant qualities by practical observations and activities in the field (Emma).\n \nBrought to you by Emma van de Winckel and Peter Lewis\n \n\nDates: 30th October to 2nd November 2020\n- At: Marleen Herbs of Tasmania, Barrington, TAS. (20-­‐minute drive from Devonport, 10-­‐minute drive from Sheffield)\n- Cost: $1430 (Inc. GST)\n- Inclusive are Peter's 2 new books; a Practitioner handbook and a book for the general public\n- Delegate intake maximum 20 practitioners\n \nFor more information see the attached flyer.\nEnquiries please contact Emma: emma.winckel@bigpond.com\n
X-MS-OLK-FORCEINSPECTOROPEN:TRUE
BEGIN:VEVENT
DTSTAMP:20200226T122138Z
DTSTART:20201030T090000Z
DTEND:20201102T180000Z
TRANSP:TRANSPARENT
UID:5592020-10-30
SUMMARY:Practical Phytomedicine Pathway
DESCRIPTION:The primary objective of practical phytomedicine pathway is to educate Phytotherapy and Naturopathy practitioner expertise. You'll become a skillful co-­‐worker assisting natural healing forces in clinical practice.\n \nOverview of the 4-­‐day training program:\n \nDay 1 -­‐ Linking medicinal plant qualities with seasons, plant families plus clinical practice (Emma).\nDay 2 -­‐ Diagnosis using visual, palpable, hearing, smelling plus interview methods (Peter).\nDay 3 -­‐ Several acute disorder treatment methods with emphasis on safe outcomes (Peter).\nDay 4 -­‐ Experience the plant qualities by practical observations and activities in the field (Emma).\n \nBrought to you by Emma van de Winckel and Peter Lewis\n \n\nDates: 30th October to 2nd November 2020\n- At: Marleen Herbs of Tasmania, Barrington, TAS. (20-­‐minute drive from Devonport, 10-­‐minute drive from Sheffield)\n- Cost: $1430 (Inc. GST)\n- Inclusive are Peter's 2 new books; a Practitioner handbook and a book for the general public\n- Delegate intake maximum 20 practitioners\n \nFor more information see the attached flyer.\nEnquiries please contact Emma: emma.winckel@bigpond.com\n
URL:http://www.nhaa.org.au/events/2013-02-13-01-46-12/practical-phytomedicine-pathway?format=html
CATEGORIES:Other Professional Events
GEO:
LOCATION:
END:VEVENT
END:VCALENDAR