BEGIN:VCALENDAR
PRODID:-//Feedo Feed//NONSGML v1.0//EN
VERSION:2.0
CALSCALE:GREGORIAN
METHOD:PUBLISH
X-WR-CALNAME:The Pathogen Puzzle: Navigating Chronic Infection and the Disease Connection
X-WR-CALDESC:\nAdvances in the understanding of contagious disease, medicine and hygiene has near eradicated many infectious diseases. Despite this, we are all still affected by infections throughout life, and while some are self-limiting, others have the potential to cause chronic, and at times debilitating disease. Infections have been implicated in prevalent conditions such as cardiovascular disease and myalgic encephalomyelitis/chronic fatigue syndrome. Likewise, autoimmune conditions such as rheumatoid arthritis and multiple sclerosis have been associated with infections.\nThis Metagenics seminar, held in 43 locations throughout Australia and New Zealand, will delve into the role pathogens play in these conditions, to provide practical strategies Practitioners can use to support patients affected by infection and chronic disease.\nFor more information click here.
X-MS-OLK-FORCEINSPECTOROPEN:TRUE
BEGIN:VEVENT
DTSTAMP:20200226T122000Z
DTSTART:20200219T023000Z
DTEND:20200329T193000Z
TRANSP:TRANSPARENT
UID:5632020-02-19
SUMMARY:The Pathogen Puzzle: Navigating Chronic Infection and the Disease Connection
DESCRIPTION:\nAdvances in the understanding of contagious disease, medicine and hygiene has near eradicated many infectious diseases. Despite this, we are all still affected by infections throughout life, and while some are self-limiting, others have the potential to cause chronic, and at times debilitating disease. Infections have been implicated in prevalent conditions such as cardiovascular disease and myalgic encephalomyelitis/chronic fatigue syndrome. Likewise, autoimmune conditions such as rheumatoid arthritis and multiple sclerosis have been associated with infections.\nThis Metagenics seminar, held in 43 locations throughout Australia and New Zealand, will delve into the role pathogens play in these conditions, to provide practical strategies Practitioners can use to support patients affected by infection and chronic disease.\nFor more information click here.
URL:http://www.nhaa.org.au/events/2013-02-13-01-46-12/the-pathogen-puzzle-navigating-chronic-infection-and-the-disease-connection?format=html
CATEGORIES:Other Professional Events
GEO:
LOCATION:Various venues and times February to March 2020
END:VEVENT
END:VCALENDAR